BEGIN:VCALENDAR
VERSION:2.0
PRODID:-//EvenFlow Yoga - ECPv4.6.13//NONSGML v1.0//EN
CALSCALE:GREGORIAN
METHOD:PUBLISH
X-WR-CALNAME:EvenFlow Yoga
X-ORIGINAL-URL:https://evenflowyoga.com
X-WR-CALDESC:Events for EvenFlow Yoga
BEGIN:VEVENT
DTSTART;TZID=UTC+0:20221106T120000
DTEND;TZID=UTC+0:20221106T140000
DTSTAMP:20260420T091220
CREATED:20220920T001833Z
LAST-MODIFIED:20220920T001833Z
UID:1591-1667736000-1667743200@evenflowyoga.com
SUMMARY:Partner Yoga Series\, November 6th
DESCRIPTION:This three part partner yoga series offers a fun “twist” on traditional Hatha Yoga postures. Come enjoy a laidback environment where you a friend can explore\, learn\, and breathe as one. \nDoing yoga with those we care about provides for more meaningful connections\, offers a deeper friendship\, and can create a stronger bond between the intellectual aspects of a partnership.  Come play\, laugh\, and let go! \n$50 per couple\, per class \nSIGN UP HERE!\n
URL:https://evenflowyoga.com/event/partner-yoga-series-november-6th/
LOCATION:25 Broad Street\, Red Bank\, NJ\, 07701\, United States
END:VEVENT
END:VCALENDAR