BEGIN:VCALENDAR
VERSION:2.0
PRODID:-//EvenFlow Yoga - ECPv4.6.13//NONSGML v1.0//EN
CALSCALE:GREGORIAN
METHOD:PUBLISH
X-WR-CALNAME:EvenFlow Yoga
X-ORIGINAL-URL:https://evenflowyoga.com
X-WR-CALDESC:Events for EvenFlow Yoga
BEGIN:VEVENT
DTSTART;TZID=UTC+0:20231222T180000
DTEND;TZID=UTC+0:20231222T190000
DTSTAMP:20260420T103346
CREATED:20200221T000621Z
LAST-MODIFIED:20231123T030225Z
UID:1049-1703268000-1703271600@evenflowyoga.com
SUMMARY:That Kirtan Band
DESCRIPTION:Join together to sing songs of devotion at Kirtan! \nSinging Kirtan\, or even just listening to Kirtan music is an ancient devotional practice in Yoga\, Bhakti Yoga\, which when combined with the influence of mantra\, can bring deep bliss and joy into your heart. The sacred sounds can be sung by anyone- no experience needed! \nSIGN UP HERE!\n
URL:https://evenflowyoga.com/event/kirtan-flow/
LOCATION:560 River Road\, Fair Haven\, NJ\, 07704\, United States
ATTACH;FMTTYPE=image/jpeg:https://evenflowyoga.com/wp-content/uploads/Screen-Shot-2023-11-22-at-4.59.39-PM.jpg
END:VEVENT
END:VCALENDAR