BEGIN:VCALENDAR
VERSION:2.0
PRODID:-//EvenFlow Yoga - ECPv4.6.13//NONSGML v1.0//EN
CALSCALE:GREGORIAN
METHOD:PUBLISH
X-WR-CALNAME:EvenFlow Yoga
X-ORIGINAL-URL:https://evenflowyoga.com
X-WR-CALDESC:Events for EvenFlow Yoga
BEGIN:VEVENT
DTSTART;TZID=UTC+0:20240106T093000
DTEND;TZID=UTC+0:20240106T104500
DTSTAMP:20260420T114506
CREATED:20231224T024639Z
LAST-MODIFIED:20231226T191841Z
UID:1726-1704533400-1704537900@evenflowyoga.com
SUMMARY:Beginner Yoga Series with Christian
DESCRIPTION:EFY excited to introduce a four week Beginners Yoga Series led by our very own Christian Valeriani! \nThis series is open to students who have never taken a yoga class or those who want to fine tune their current yoga practice. \nWe have crafted a weekly syllabus\, dissecting each pose which will allow you to safely and confidently practice any yoga flow once the series is completed. You will not only learn the asana\, but philosophy\, intention and meditation of a practice that we hold in the highest regard. \nBeginner classes begins January 6th and is held at EFY for four consecutive weeks: \nSaturdays from 9:30am to 10:45am: \nJanuary 6th \nJanuary 13th \nJanuary 20th \nJanuary 27th \nIn addition\, when registering for this Beginner Series\, you will receive a 20% discount on a class pack to practice! \n*We are capping the series 10 students for optimal learning and one-on-one attention. \n$150 \nSIGN UP NOW\n
URL:https://evenflowyoga.com/event/beginner-yoga-series-with-christian/
LOCATION:560 River Road\, Fair Haven\, NJ\, 07704\, United States
ATTACH;FMTTYPE=image/jpeg:https://evenflowyoga.com/wp-content/uploads/Screen-Shot-2023-12-23-at-4.31.41-PM.jpg
END:VEVENT
END:VCALENDAR